BEGIN:VCALENDAR
VERSION:2.0
PRODID:-//Ινστιτούτο Χρηματοοικονομικού Αλφαβητισμού - ECPv5.4.0.2//NONSGML v1.0//EN
CALSCALE:GREGORIAN
METHOD:PUBLISH
X-WR-CALNAME:Ινστιτούτο Χρηματοοικονομικού Αλφαβητισμού
X-ORIGINAL-URL:https://www.gfli.gr
X-WR-CALDESC:Ινστιτούτο Χρηματοοικονομικού Αλφαβητισμού - Εκδηλώσεις
BEGIN:VTIMEZONE
TZID:Europe/Athens
BEGIN:DAYLIGHT
TZOFFSETFROM:+0200
TZOFFSETTO:+0300
TZNAME:EEST
DTSTART:20190331T010000
END:DAYLIGHT
BEGIN:STANDARD
TZOFFSETFROM:+0300
TZOFFSETTO:+0200
TZNAME:EET
DTSTART:20191027T010000
END:STANDARD
END:VTIMEZONE
BEGIN:VEVENT
DTSTART;TZID=Europe/Athens:20191031T160000
DTEND;TZID=Europe/Athens:20191031T180000
DTSTAMP:20260422T131654
CREATED:20191020T102029Z
LAST-MODIFIED:20200916T093704Z
UID:10145-1572537600-1572544800@www.gfli.gr
SUMMARY:«Τα χρήματα δεν φυτρώνουν στα δέντρα» - Παρουσίαση βιβλίου
DESCRIPTION:Η Παγκόσμια Ημέρα Αποταμίευσης γιορτάζεται την 31η Οκτωβρίου κάθε χρόνου\, σε ανάμνηση της ίδρυσης του Διεθνούς Ινστιτούτου Ταχυδρομικών Ταμιευτηρίων στο Μιλάνο στις 31 Οκτωβρίου 1924. Με αφορμή  την συγκεκριμένη μέρα\, το Ινστιτούτο Χρηματοοικονομικού Αλφαβητισμού παρουσιάζει το νέο βιβλίο του Προέδρου και Ιδρυτή του Ινστιτούτου\, καθηγητή Χρηματοοικονομικής στο Πανεπιστήμιο Πειραιά\, κου Νικολάου Δ. Φίλιππα\, με τίτλο «Τα χρήματα δεν φυτρώνουν στα δέντρα»\,  το  οποίο είναι το πρώτο βιβλίο χρηματοοικονομικής εκπαίδευσης και ενδυνάμωσης στην Ευρώπη\, για παιδιά ηλικίας 10 έως 12 ετών. \nΗ εκδήλωση παρουσίασης του βιβλίου θα πραγματοποιηθεί  την Πέμπτη 31-10-2019 στις 16.00 στην αίθουσα Ν.212-214 του κεντρικού καταστήματος της Τράπεζας Ελλάδος\, Πανεπιστημίου 21\, Αθήνα. \nΓια το βιβλίο θα μιλήσουν : \n\nη Κα Όλγα Κεφαλογιάννη\, Βουλευτής \, Α Αθηνών\no Κος Αίσωπος Κρις\, CEO Alpha Trust\nο Καθηγητής Άγγελος Κόττιος\, Πρύτανης Πανεπιστημίου Πειραιά\nο Κος Ιωάννης Καντώρος\, CEO Ομίλου INTERAMERICAN\n\nΧαιρετισμό θα απευθύνει ο Διοικητής της Τράπεζας της Ελλάδoς καθηγητής Γιάννης Στουρνάρας. Την συζήτηση θα διευθύνει ο δημοσιογράφος του  ΣΚΑΪ  Κος Γ. Ευγενίδης. \n \n  \nΛίγα λόγια για το βιβλίο   \nΤο βιβλίο του Νικολάου Δ. Φίλιππα με τίτλο «Τα Χρήματα δεν φυτρώνουν στα δέντρα»\, αποτελεί το πρώτο βιβλίο χρηματοοικονομικής εκπαίδευσης και ενδυνάμωσης για παιδιά ηλικίας 10 έως 12 ετών στη Ευρώπη. Μέσα από το πλούσιο σε έννοιες και περιεχόμενο κείμενο\, αλλά και  διαδραστικές ασκήσεις\, σταυρόλεξα\, κρυπτόλεξα και άλλα ευχάριστα παιχνίδια\, ο συγγραφέας θέτει τις βάσεις για την δημιουργία μιας γενιάς χρηματοοικονομικά ενήμερων και υπεύθυνων πολιτών. Μια κοινωνία όπου όλοι οι πολίτες χωρίς κανένα χρηματοοικονομικό αποκλεισμό\, θα έχουν τις γνώσεις και τις ικανότητες να αντιληφθούν την «μεγάλη εικόνα» της οικονομίας\, την χρησιμότητα των χρηματοοικονομικών προϊόντων καθώς και την λειτουργία και τους κινδύνους των αγορών\, ώστε σε κάθε φάση της ζωής τους να μπορούν να λαμβάνουν τις καλύτερες  αποφάσεις για την αποτελεσματική διαχείριση των χρημάτων τους με απώτερο σκοπό την  επίτευξη της ευημερίας τους για όλο το διάστημα της ζωής τους. \n  \nΓια δηλώσεις συμμετοχής  εγγραφείτε εδώ:   https://forms.gle/SN6oNccK52UkVxbVA \n 
URL:https://www.gfli.gr/event/ta-chrimata-den-fytronoyn-sta-dentra-paroysiasi-vivlioy/
ATTACH;FMTTYPE=image/png:https://www.gfli.gr/wp-content/uploads/2019/10/εξωφυλ.png
END:VEVENT
END:VCALENDAR