BEGIN:VCALENDAR
VERSION:2.0
PRODID:-//Ινστιτούτο Χρηματοοικονομικού Αλφαβητισμού - ECPv5.4.0.2//NONSGML v1.0//EN
CALSCALE:GREGORIAN
METHOD:PUBLISH
X-WR-CALNAME:Ινστιτούτο Χρηματοοικονομικού Αλφαβητισμού
X-ORIGINAL-URL:https://www.gfli.gr
X-WR-CALDESC:Ινστιτούτο Χρηματοοικονομικού Αλφαβητισμού - Εκδηλώσεις
BEGIN:VTIMEZONE
TZID:Europe/Athens
BEGIN:DAYLIGHT
TZOFFSETFROM:+0200
TZOFFSETTO:+0300
TZNAME:EEST
DTSTART:20220327T010000
END:DAYLIGHT
BEGIN:STANDARD
TZOFFSETFROM:+0300
TZOFFSETTO:+0200
TZNAME:EET
DTSTART:20221030T010000
END:STANDARD
END:VTIMEZONE
BEGIN:VEVENT
DTSTART;VALUE=DATE:20220321
DTEND;VALUE=DATE:20220328
DTSTAMP:20260422T131631
CREATED:20220327T001851Z
LAST-MODIFIED:20220327T001851Z
UID:14377-1647820800-1648425599@www.gfli.gr
SUMMARY:Συμμετοχή του Ινστιτούτου Χρηματοοικονομικού Αλφαβητισμού στην Global Money Week 2022
DESCRIPTION:Συμμετοχή του Ινστιτούτου στην Ετήσια Διεθνή Εκστρατεία Χρηματοοικονομικής Ευαισθητοποίησης «Global Money Week 2022» που διοργανώνεται από το Διεθνές Δίκτυο Χρηματοοικονομικής Εκπαίδευσης του Οργανισμού Οικονομικής Συνεργασίας και Ανάπτυξης (OECD/INFE) \nΜάθετε περισσότερα: \nΑνακοίνωση συμμετοχής του Ινστιτούτου Χρηματοοικονομικού Αλφαβητισμού στην Global Money Week 2022 \nAnnouncement of participation of the Hellenic Financial Literacy Institute in Global Money Week 2022
URL:https://www.gfli.gr/event/symmetochi-toy-institoytoy-chrimatooikonomikoy-alfavitismoy-stin-global-money-week-2022/
ATTACH;FMTTYPE=image/png:https://www.gfli.gr/wp-content/uploads/2022/03/Ινστιτούτο-Χρηματοοικονομικού-Αλφαβητισμού-Global-Money-Week-2022-Greek.png
END:VEVENT
END:VCALENDAR