BEGIN:VCALENDAR
VERSION:2.0
PRODID:-//Ινστιτούτο Χρηματοοικονομικού Αλφαβητισμού - ECPv5.4.0.2//NONSGML v1.0//EN
CALSCALE:GREGORIAN
METHOD:PUBLISH
X-WR-CALNAME:Ινστιτούτο Χρηματοοικονομικού Αλφαβητισμού
X-ORIGINAL-URL:https://www.gfli.gr
X-WR-CALDESC:Ινστιτούτο Χρηματοοικονομικού Αλφαβητισμού - Εκδηλώσεις
BEGIN:VTIMEZONE
TZID:Europe/Athens
BEGIN:DAYLIGHT
TZOFFSETFROM:+0200
TZOFFSETTO:+0300
TZNAME:EEST
DTSTART:20210328T010000
END:DAYLIGHT
BEGIN:STANDARD
TZOFFSETFROM:+0300
TZOFFSETTO:+0200
TZNAME:EET
DTSTART:20211031T010000
END:STANDARD
END:VTIMEZONE
BEGIN:VEVENT
DTSTART;VALUE=DATE:20210322
DTEND;VALUE=DATE:20210329
DTSTAMP:20260422T183431
CREATED:20210402T110405Z
LAST-MODIFIED:20220327T103159Z
UID:11341-1616371200-1616975999@www.gfli.gr
SUMMARY:Συμμετοχή του Ινστιτούτου Χρηματοοικονομικού Αλφαβητισμού στην Global Money Week 2021
DESCRIPTION:Συμμετοχή του Ινστιτούτου στην Ετήσια Διεθνή Εκστρατεία Χρηματοοικονομικής Ευαισθητοποίησης «Global Money Week 2021» που διοργανώνεται από το Διεθνές Δίκτυο Χρηματοοικονομικής Εκπαίδευσης του Οργανισμού Οικονομικής Συνεργασίας και Ανάπτυξης (OECD/INFE)
URL:https://www.gfli.gr/event/symmetochi-toy-institoytoy-chrimatooikonomikoy-alfavitismoy-stin-global-money-week-2021/
ATTACH;FMTTYPE=image/jpeg:https://www.gfli.gr/wp-content/uploads/2021/04/Untitled-design-19.jpg
END:VEVENT
END:VCALENDAR