BEGIN:VCALENDAR
VERSION:2.0
PRODID:-//Ινστιτούτο Χρηματοοικονομικού Αλφαβητισμού - ECPv5.4.0.2//NONSGML v1.0//EN
CALSCALE:GREGORIAN
METHOD:PUBLISH
X-WR-CALNAME:Ινστιτούτο Χρηματοοικονομικού Αλφαβητισμού
X-ORIGINAL-URL:https://www.gfli.gr
X-WR-CALDESC:Ινστιτούτο Χρηματοοικονομικού Αλφαβητισμού - Εκδηλώσεις
BEGIN:VTIMEZONE
TZID:Europe/Athens
BEGIN:DAYLIGHT
TZOFFSETFROM:+0200
TZOFFSETTO:+0300
TZNAME:EEST
DTSTART:20210328T010000
END:DAYLIGHT
BEGIN:STANDARD
TZOFFSETFROM:+0300
TZOFFSETTO:+0200
TZNAME:EET
DTSTART:20211031T010000
END:STANDARD
END:VTIMEZONE
BEGIN:VEVENT
DTSTART;VALUE=DATE:20211018
DTEND;VALUE=DATE:20211023
DTSTAMP:20260422T174352
CREATED:20220327T093059Z
LAST-MODIFIED:20220327T095516Z
UID:14385-1634515200-1634947199@www.gfli.gr
SUMMARY:Συμμετοχή του Ινστιτούτου Χρηματοοικονομικού Αλφαβητισμού στην Family Economy Week 2021
DESCRIPTION:Συμμετοχή του Ινστιτούτου ως International Partner στις εργασίες του Διεθνούς Forum «Family Economy Week 2021» που διοργανώνεται υπό την υψηλή αιγίδα του Ευρωπαϊκού Κοινοβουλίου και υπό την αιγίδα της Ευρωπαϊκής Επιτροπής \nΓια δεύτερη συνεχόμενη χρονιά\, το Ινστιτούτο Χρηματοοικονομικού Αλφαβητισμού συμμετέχει ως International Partner στο Διεθνές Forum “Family Economy Week”\, οι εργασίες του οποίου ξεκινούν αύριο! \nΑξίζουν πολλά συγχαρητήρια στην Επιστημονική Συνεργάτιδα του Ινστιτούτου Δρ. Βασιλική Τζώρα\, για την ανάληψη εξαιρετικών πρωτοβουλιών σχετικά με την συμμετοχή του Ινστιτούτου σε αυτό το διεθνές event\, το οποίο έχει αποκτήσει ιδιαίτερη βαρύτητα σε παγκόσμιο επίπεδο για την ανάπτυξη και την ανάδειξη ολοκληρωμένων προγραμμάτων και δράσεων χρηματοοικονομικού αλφαβητισμού και ενδυνάμωσης. \nΣτον παρακάτω σύνδεσμο μπορείτε να ενημερωθείτε για το πλήρες πρόγραμμα των εργασιών/ομιλιών και να εγγραφείτε για την παρακολούθησή τους: https://www.familyeconomyweek.eu/home-gre
URL:https://www.gfli.gr/event/symmetochi-toy-institoytoy-chrimatooikonomikoy-alfavitismoy-stin-family-economy-week-2021/
ATTACH;FMTTYPE=image/jpeg:https://www.gfli.gr/wp-content/uploads/2022/03/Family-Economy-Week-2021-Hellenic-Financial-Literacy-Institute.jpg
END:VEVENT
END:VCALENDAR