BEGIN:VCALENDAR
VERSION:2.0
PRODID:-//Ινστιτούτο Χρηματοοικονομικού Αλφαβητισμού - ECPv5.4.0.2//NONSGML v1.0//EN
CALSCALE:GREGORIAN
METHOD:PUBLISH
X-WR-CALNAME:Ινστιτούτο Χρηματοοικονομικού Αλφαβητισμού
X-ORIGINAL-URL:https://www.gfli.gr
X-WR-CALDESC:Ινστιτούτο Χρηματοοικονομικού Αλφαβητισμού - Εκδηλώσεις
BEGIN:VTIMEZONE
TZID:Europe/Athens
BEGIN:DAYLIGHT
TZOFFSETFROM:+0200
TZOFFSETTO:+0300
TZNAME:EEST
DTSTART:20200329T010000
END:DAYLIGHT
BEGIN:STANDARD
TZOFFSETFROM:+0300
TZOFFSETTO:+0200
TZNAME:EET
DTSTART:20201025T010000
END:STANDARD
END:VTIMEZONE
BEGIN:VEVENT
DTSTART;VALUE=DATE:20201027
DTEND;VALUE=DATE:20201030
DTSTAMP:20260422T133341
CREATED:20220327T100915Z
LAST-MODIFIED:20220327T100915Z
UID:14395-1603756800-1604015999@www.gfli.gr
SUMMARY:Συμμετοχή του Ινστιτούτου Χρηματοοικονομικού Αλφαβητισμού στην Family Economy Week 2020
DESCRIPTION:Συμμετοχή του Ινστιτούτου ως International Partner στις εργασίες του Διεθνούς Forum «Family Economy Week 2020» που διοργανώνεται υπό την αιγίδα της Ευρωπαϊκής Επιτροπής \nΣτον παρακάτω σύνδεσμο μπορείτε να ενημερωθείτε για το πλήρες πρόγραμμα των εργασιών/ομιλιών και να εγγραφείτε για την παρακολούθησή τους: https://www.familyeconomyweek.eu/scuole-29ott \nΣτην Ιταλία\, ο μήνας που είναι αφιερωμένος στην χρηματοοικονομική εκπαίδευση είναι ο Οκτώβριος. Στο πλαίσιο αυτό\, ο ιταλικός οργανισμός ProfessioneFinanza με έδρα το Μιλάνο και το Διεθνές Ινστιτούτο Πολιτισμού και Oικονομικής Εκπαίδευσης (Τhe International Institute for Culture and Economic Education – IICEE)\, υλοποιούν την δράση «Family Economy Week 2020». Η δράση αυτή αποτελεί ένα μεγάλο γεγονός για την Ιταλία κατά το οποίο 75 διακεκριμένες προσωπικότητες από ολόκληρο τον κόσμο θα μιλήσουν για την οικονομία\, την χρηματοοικονομική διαχείριση\, τον πολιτισμό\, την κοινωνία και τις επιχειρήσεις\, προκειμένου να εμβαθύνουν και να καθοδηγήσουν μία νέα ιταλική αναγέννηση. Το Ινστιτούτο Χρηματοοικονομικού Αλφαβητισμού\, έπειτα από σχετική πρόσκληση\, συμμετέχει με ομιλίες του Προέδρου του\, Καθηγητή Χρηματοοικονομικής Νικόλαου Δ. Φίλιππα\, καθώς και της Επιστημονικής Συνεργάτιδάς του Δρ. Βάσιας Τζώρα\, αναπτύσσοντας θέματα που αφορούν στην χρηματοοικονομική εκπαίδευση και στα προσωπικά χρηματοοικονομικά (personal finance)\, παρουσιάζοντας παράλληλα τα βιβλία και τις επιστημονικές έρευνες που έχουν υλοποιηθεί.
URL:https://www.gfli.gr/event/symmetochi-toy-institoytoy-chrimatooikonomikoy-alfavitismoy-stin-family-economy-week-2020/
ATTACH;FMTTYPE=image/png:https://www.gfli.gr/wp-content/uploads/2022/03/Family-Economy-Week-2020-Hellenic-Financial-Literacy-Institute.png
END:VEVENT
END:VCALENDAR