BEGIN:VCALENDAR
VERSION:2.0
PRODID:-//Ινστιτούτο Χρηματοοικονομικού Αλφαβητισμού - ECPv5.4.0.2//NONSGML v1.0//EN
CALSCALE:GREGORIAN
METHOD:PUBLISH
X-WR-CALNAME:Ινστιτούτο Χρηματοοικονομικού Αλφαβητισμού
X-ORIGINAL-URL:https://www.gfli.gr
X-WR-CALDESC:Ινστιτούτο Χρηματοοικονομικού Αλφαβητισμού - Εκδηλώσεις
BEGIN:VTIMEZONE
TZID:Europe/Athens
BEGIN:DAYLIGHT
TZOFFSETFROM:+0200
TZOFFSETTO:+0300
TZNAME:EEST
DTSTART:20220327T010000
END:DAYLIGHT
BEGIN:STANDARD
TZOFFSETFROM:+0300
TZOFFSETTO:+0200
TZNAME:EET
DTSTART:20221030T010000
END:STANDARD
END:VTIMEZONE
BEGIN:VEVENT
DTSTART;VALUE=DATE:20220322
DTEND;VALUE=DATE:20220323
DTSTAMP:20260422T144232
CREATED:20220326T234438Z
LAST-MODIFIED:20220326T234438Z
UID:14372-1647907200-1647993599@www.gfli.gr
SUMMARY:Πρόγραμμα @ξία - Το χρήμα και η ιστορία του
DESCRIPTION:Προσαρμογή και διάθεση της πρώτης εκπαιδευτικής ενότητας του «Προγράμματος @ξία» σε μορφή βίντεο-μαθήματος\, στα πλαίσια των δράσεων για την Διεθνή Εκστρατεία «Global Money Week 2022» του OECD/INFE \nΜάθετε περισσότερα: https://www.gfli.gr/programma-xia-to-chrima-kai-i-istoria-toy-global-money-week/
URL:https://www.gfli.gr/event/programma-xia-to-chrima-kai-i-istoria-toy/
ATTACH;FMTTYPE=image/png:https://www.gfli.gr/wp-content/uploads/2022/03/Πρόγραμμα-@ξία-Το-χρήμα-και-η-ιστορία-του-Global-Money-Week.png
END:VEVENT
END:VCALENDAR