BEGIN:VCALENDAR
VERSION:2.0
PRODID:-//Ινστιτούτο Χρηματοοικονομικού Αλφαβητισμού - ECPv5.4.0.2//NONSGML v1.0//EN
CALSCALE:GREGORIAN
METHOD:PUBLISH
X-WR-CALNAME:Ινστιτούτο Χρηματοοικονομικού Αλφαβητισμού
X-ORIGINAL-URL:https://www.gfli.gr
X-WR-CALDESC:Ινστιτούτο Χρηματοοικονομικού Αλφαβητισμού - Εκδηλώσεις
BEGIN:VTIMEZONE
TZID:Europe/Athens
BEGIN:DAYLIGHT
TZOFFSETFROM:+0200
TZOFFSETTO:+0300
TZNAME:EEST
DTSTART:20210328T010000
END:DAYLIGHT
BEGIN:STANDARD
TZOFFSETFROM:+0300
TZOFFSETTO:+0200
TZNAME:EET
DTSTART:20211031T010000
END:STANDARD
END:VTIMEZONE
BEGIN:VEVENT
DTSTART;VALUE=DATE:20210322
DTEND;VALUE=DATE:20210323
DTSTAMP:20260422T200601
CREATED:20210402T110817Z
LAST-MODIFIED:20220327T103619Z
UID:11344-1616371200-1616457599@www.gfli.gr
SUMMARY:Personal Finance: The Evolution of the Economy from the Mesolithic Period to Cryptocurrencies and Roboadvisors - Διαδικτυακή διάλεξη σε προπτυχιακούς φοιτητές του Πανεπιστημίου Πειραιώς
DESCRIPTION:Personal Finance: The Evolution of the Economy from the Mesolithic Period to Cryptocurrencies and Roboadvisors – Διαδικτυακή διάλεξη του Προέδρου του Ινστιτούτου σε κοινό 120 προπτυχιακών φοιτητών του Πανεπιστημίου Πειραιώς\, στα πλαίσια των δράσεων για την Διεθνή Εκστρατεία «Global Money Week 2021» του OECD/INFE
URL:https://www.gfli.gr/event/personal-finance-the-evolution-of-the-economy-from-the-mesolithic-period-to-cryptocurrencies-and-robo-advisors/
ATTACH;FMTTYPE=image/png:https://www.gfli.gr/wp-content/uploads/2021/04/Ακρόπολη-final-1-1.png
END:VEVENT
END:VCALENDAR