BEGIN:VCALENDAR
VERSION:2.0
PRODID:-//Ινστιτούτο Χρηματοοικονομικού Αλφαβητισμού - ECPv5.4.0.2//NONSGML v1.0//EN
CALSCALE:GREGORIAN
METHOD:PUBLISH
X-WR-CALNAME:Ινστιτούτο Χρηματοοικονομικού Αλφαβητισμού
X-ORIGINAL-URL:https://www.gfli.gr
X-WR-CALDESC:Ινστιτούτο Χρηματοοικονομικού Αλφαβητισμού - Εκδηλώσεις
BEGIN:VTIMEZONE
TZID:Europe/Athens
BEGIN:DAYLIGHT
TZOFFSETFROM:+0200
TZOFFSETTO:+0300
TZNAME:EEST
DTSTART:20200329T010000
END:DAYLIGHT
BEGIN:STANDARD
TZOFFSETFROM:+0300
TZOFFSETTO:+0200
TZNAME:EET
DTSTART:20201025T010000
END:STANDARD
END:VTIMEZONE
BEGIN:VEVENT
DTSTART;TZID=Europe/Athens:20201102T190000
DTEND;TZID=Europe/Athens:20201102T210000
DTSTAMP:20260422T151418
CREATED:20210117T140714Z
LAST-MODIFIED:20210117T140714Z
UID:11264-1604343600-1604350800@www.gfli.gr
SUMMARY:Personal Finance: Ένα πρωτοποριακό πρόγραμμα e-learning για όλους
DESCRIPTION:Το Personal Finance αποτελεί τον κυρίαρχο όρο ο οποίος καλύπτει τις διάφορες πτυχές της διαχείρισης των χρημάτων μας\, με ιδιαίτερη έμφαση στην αποταμίευση και στην επένδυση. Συμπυκνώνει το σύνολο των χρηματοοικονομικών γνώσεων και δράσεων που αφορούν τόσο στο άτομο (personal finance) όσο και στην οικογένεια (family finance). \nΣτα πλαίσια μιας ολιστικής χρηματοοικονομικής προσέγγισης το Personal Finance περιλαμβάνει την δημιουργία εισοδήματος (income)\, την «έξυπνη» κατανάλωση (spending)\, την κατάρτιση και την πιστή εφαρμογή ενός προϋπολογισμού (budgeting)\, τις σχέσεις μας με τις τράπεζες (banking)\, την προστασία μας μέσα από την ασφάλιση (insurance)\, το ύψος και την διαχείριση των στεγαστικών δανείων (mortgage loans)\, τις επενδύσεις (investments)\, τον προγραμματισμό για την συνταξιοδότηση (retirement planning)\, τον σωστό προγραμματισμό των φόρων (tax planning) και γενικότερα την βέλτιστη διαχείριση της περιουσίας μας. \nΣτην Ελλάδα κανένα Πανεπιστήμιο δεν προσφέρει ολιστικές σχετικές γνώσεις στο ιδιαίτερης σπουδαιότητας για την ποιότητα της ζωής μας αντικείμενο του Personal Finance. Το ίδιο συμβαίνει και σε παγκόσμιο επίπεδο αν εξαιρέσουμε την Αμερική. \nΗ σωστή διαχείριση των χρημάτων μας τόσο για τους πολίτες όσο και για τις επιχειρήσεις αναδεικνύεται πλέον ως πρωτεύον θέμα λόγω της παγκόσμιας υπερχρέωσης και της πρόσφατης πανδημίας\, γι’ αυτό και είναι σημαντικό να ενισχύσουμε τις χρηματοοικονομικές μας γνώσεις μακριά από τις παγίδες του λαϊκισμού. \nΟ βασικός λοιπόν σκοπός του Personal Finance είμαστε εμείς! Επενδύουμε λοιπόν στον εαυτό μας\, στην εκπαίδευση μας\, στις εμπειρίες μας\, στην ανάπτυξη δεξιοτήτων που θα ενισχύσουν τα εφόδια και θα πετύχουμε μια καλύτερη ποιότητα ζωής. \nΗ βελτίωση της χρηματοοικονομικής μας υγείας και η επίτευξη της χρηματοοικονομικής μας ανεξαρτησίας\, θα οδηγήσουν στην μείωση του χρηματοοικονομικού μας άγχους και σε μια καλύτερη ποιότητα ζωής\, που είναι τελικά ο βασικός σκοπός του ανθρώπου. \nΤο πρόγραμμα απευθύνεται σε όλους ανεξαιρέτως\, δεν απαιτεί καμία απολύτως γνώση οικονομικών / χρηματοοικονομικών όρων και αποσκοπεί να αποδομήσει τις πολύπλοκες έννοιες που ακούμε καθημερινά. Στοχεύει στην κατανόηση των ευκαιριών και των παγίδων του πολύπλοκου χρηματοπιστωτικού συστήματος το οποίο μπορεί να οδηγήσει έναν απλό πολίτη σε υπερχρέωση\, αλλά και σε επενδυτικά σφάλματα τα οποία μπορεί να επηρεάσουν\, την ψυχολογία και την ποιότητα της ζωής διαχρονικά. \nΓια να κατανοήσει τις έννοιες της αποταμίευσης\, της προσεκτικής κατανάλωσης\, των κινδύνων των δανείων και των πιστωτικών καρτών και της προσοχής που οφείλουμε να έχουμε στην επιλογή των κατάλληλων επενδύσεων ανάλογα με τις ανάγκες μας και τον κίνδυνο. Οι αιτήσεις έχουν ξεκινήσει! Κάντε την εγγραφή σας τώρα! \nΙστοσελίδα προγράμματος: http://personalfinance.unipi.gr/ \nE-mail: personalfinance@unipi.gr \nΤηλέφωνο επικοινωνίας: 694 20 84 261
URL:https://www.gfli.gr/event/personal-finance-ena-protoporiako-programma-e-learning-gia-oloys/
ATTACH;FMTTYPE=image/jpeg:https://www.gfli.gr/wp-content/uploads/2021/01/pf.jpg
END:VEVENT
END:VCALENDAR