BEGIN:VCALENDAR
VERSION:2.0
PRODID:-//Ινστιτούτο Χρηματοοικονομικού Αλφαβητισμού - ECPv5.4.0.2//NONSGML v1.0//EN
CALSCALE:GREGORIAN
METHOD:PUBLISH
X-WR-CALNAME:Ινστιτούτο Χρηματοοικονομικού Αλφαβητισμού
X-ORIGINAL-URL:https://www.gfli.gr
X-WR-CALDESC:Ινστιτούτο Χρηματοοικονομικού Αλφαβητισμού - Εκδηλώσεις
BEGIN:VTIMEZONE
TZID:Europe/Athens
BEGIN:DAYLIGHT
TZOFFSETFROM:+0200
TZOFFSETTO:+0300
TZNAME:EEST
DTSTART:20210328T010000
END:DAYLIGHT
BEGIN:STANDARD
TZOFFSETFROM:+0300
TZOFFSETTO:+0200
TZNAME:EET
DTSTART:20211031T010000
END:STANDARD
END:VTIMEZONE
BEGIN:VEVENT
DTSTART;VALUE=DATE:20210331
DTEND;VALUE=DATE:20210401
DTSTAMP:20260422T231139
CREATED:20210402T120445Z
LAST-MODIFIED:20220327T102717Z
UID:11351-1617148800-1617235199@www.gfli.gr
SUMMARY:Η εξέλιξη της οικονομίας από την μεσολιθική εποχή μέχρι τα κρυπτονομίσματα και τους Roboadvisors - Διαδικτυακή διάλεξη σε μαθητές της A’ τάξης του Β’ Αρσακείου Λυκείου Ψυχικού
DESCRIPTION:Η εξέλιξη της οικονομίας από την μεσολιθική εποχή μέχρι τα κρυπτονομίσματα και τους Roboadvisors – Διαδικτυακή διάλεξη του Προέδρου του Ινστιτούτου σε μαθητές της A’ τάξης του Β’ Αρσακείου Λυκείου Ψυχικού\, στα πλαίσια των δράσεων για την Διεθνή Εκστρατεία «Global Money Week 2021» του OECD/INFE
URL:https://www.gfli.gr/event/i-exelixi-tis-oikonomias-apo-tin-mesolithiki-epochi-mechri-ta-kryptonomismata-kai-toys-roboadvisors-diadiktyaki-dialexi-se-mathites-tis-a-taxis-toy-v-arsakeioy-lykeioy-psychikoy/
ATTACH;FMTTYPE=image/png:https://www.gfli.gr/wp-content/uploads/2021/04/Untitled-design-49-e1648376813990.png
END:VEVENT
END:VCALENDAR