BEGIN:VCALENDAR
VERSION:2.0
PRODID:-//Ινστιτούτο Χρηματοοικονομικού Αλφαβητισμού - ECPv5.4.0.2//NONSGML v1.0//EN
CALSCALE:GREGORIAN
METHOD:PUBLISH
X-WR-CALNAME:Ινστιτούτο Χρηματοοικονομικού Αλφαβητισμού
X-ORIGINAL-URL:https://www.gfli.gr
X-WR-CALDESC:Ινστιτούτο Χρηματοοικονομικού Αλφαβητισμού - Εκδηλώσεις
BEGIN:VTIMEZONE
TZID:Europe/Athens
BEGIN:DAYLIGHT
TZOFFSETFROM:+0200
TZOFFSETTO:+0300
TZNAME:EEST
DTSTART:20210328T010000
END:DAYLIGHT
BEGIN:STANDARD
TZOFFSETFROM:+0300
TZOFFSETTO:+0200
TZNAME:EET
DTSTART:20211031T010000
END:STANDARD
END:VTIMEZONE
BEGIN:VEVENT
DTSTART;TZID=Europe/Athens:20210623T170000
DTEND;TZID=Europe/Athens:20210623T183000
DTSTAMP:20260424T113216
CREATED:20210618T132319Z
LAST-MODIFIED:20210627T092409Z
UID:12048-1624467600-1624473000@www.gfli.gr
SUMMARY:Financial Literacy & Personal Finance: The post-Covid-19 era challenges
DESCRIPTION:Κάντε την εγγραφή σας στην εκδήλωση εδώ. \nΔείτε τα βιογραφικά των ομιλητών εδώ. \nΔείτε την εκδήλωση εδώ:  \n 
URL:https://www.gfli.gr/event/financial-literacy-amp-personal-finance-the-post-covid-19-era-challenges/
END:VEVENT
END:VCALENDAR