BEGIN:VCALENDAR
VERSION:2.0
PRODID:-//Ινστιτούτο Χρηματοοικονομικού Αλφαβητισμού - ECPv5.4.0.2//NONSGML v1.0//EN
CALSCALE:GREGORIAN
METHOD:PUBLISH
X-WR-CALNAME:Ινστιτούτο Χρηματοοικονομικού Αλφαβητισμού
X-ORIGINAL-URL:https://www.gfli.gr
X-WR-CALDESC:Ινστιτούτο Χρηματοοικονομικού Αλφαβητισμού - Εκδηλώσεις
BEGIN:VTIMEZONE
TZID:Europe/Athens
BEGIN:DAYLIGHT
TZOFFSETFROM:+0200
TZOFFSETTO:+0300
TZNAME:EEST
DTSTART:20190331T010000
END:DAYLIGHT
BEGIN:STANDARD
TZOFFSETFROM:+0300
TZOFFSETTO:+0200
TZNAME:EET
DTSTART:20191027T010000
END:STANDARD
END:VTIMEZONE
BEGIN:VEVENT
DTSTART;VALUE=DATE:20191125
DTEND;VALUE=DATE:20191126
DTSTAMP:20260422T120149
CREATED:20191108T135303Z
LAST-MODIFIED:20200916T092905Z
UID:10173-1574640000-1574726399@www.gfli.gr
SUMMARY:e-learning “Απλά Χρηματοοικονομικά για Όλους (Home Finance)”
DESCRIPTION:Το Ινστιτούτο Χρηματοοικονομικού Αλφαβητισμού ανακοινώνει την έναρξη της περιόδου εγγραφών για το καινοτόμο πρόγραμμα e-learning “Απλά Χρηματοοικονομικά για Όλους (Home Finance)”. Το πρόγραμμα είναι διάρκειας τριών μηνών και διεξάγεται σε συνεργασία με το Πανεπιστήμιο Πειραιά\, το οποίο χορηγεί το πιστοποιητικό επιμόρφωσης του προγράμματος. \nΗ έναρξη του προγράμματος θα πραγματοποιηθεί δια ζώσης στις 25 Νοεμβρίου με διάλεξη του επιστημονικού υπευθύνου και Καθηγητή Χρηματοοικονομικής\, Νικόλαο Δ. Φίλιππα. \n\nΓνωρίστε το e-learning πρόγραμμα εδώ: http://homefinance.unipi.gr/ \nκαι πραγματοποιήστε την εγγραφή σας σήμερα\, με απλά βήματα εδώ: http://homefinance.unipi.gr/register.html
URL:https://www.gfli.gr/event/e-learning-apla-chrimatooikonomika-gia-oloys-home-finance/
ATTACH;FMTTYPE=image/jpeg:https://www.gfli.gr/wp-content/uploads/2019/11/αφίσαElearning1η-1.jpg
END:VEVENT
END:VCALENDAR