BEGIN:VCALENDAR
VERSION:2.0
PRODID:-//Ινστιτούτο Χρηματοοικονομικού Αλφαβητισμού - ECPv5.4.0.2//NONSGML v1.0//EN
CALSCALE:GREGORIAN
METHOD:PUBLISH
X-WR-CALNAME:Ινστιτούτο Χρηματοοικονομικού Αλφαβητισμού
X-ORIGINAL-URL:https://www.gfli.gr
X-WR-CALDESC:Ινστιτούτο Χρηματοοικονομικού Αλφαβητισμού - Εκδηλώσεις
BEGIN:VTIMEZONE
TZID:Europe/Athens
BEGIN:DAYLIGHT
TZOFFSETFROM:+0200
TZOFFSETTO:+0300
TZNAME:EEST
DTSTART:20210328T010000
END:DAYLIGHT
BEGIN:STANDARD
TZOFFSETFROM:+0300
TZOFFSETTO:+0200
TZNAME:EET
DTSTART:20211031T010000
END:STANDARD
END:VTIMEZONE
BEGIN:VEVENT
DTSTART;VALUE=DATE:20210331
DTEND;VALUE=DATE:20210401
DTSTAMP:20260422T234140
CREATED:20210402T120757Z
LAST-MODIFIED:20220327T102553Z
UID:11354-1617148800-1617235199@www.gfli.gr
SUMMARY:Χρηματοοικονομική Εκπαίδευση Παιδιών Πρωτοβάθμιας Εκπαίδευσης - Διαδικτυακή διάλεξη σε μαθητές του 8ου Δημοτικού Σχολείου Κηφισιάς
DESCRIPTION:Χρηματοοικονομική Εκπαίδευση Παιδιών Πρωτοβάθμιας Εκπαίδευσης – Διαδικτυακή διάλεξη του Προέδρου του Ινστιτούτου σε μαθητές του 8ου Δημοτικού Σχολείου Κηφισιάς\, στα πλαίσια των δράσεων για την Διεθνή Εκστρατεία «Global Money Week 2021» του OECD/INFE
URL:https://www.gfli.gr/event/chrimatooikonomiki-ekpaideysi-paidion-protovathmias-ekpaideysis-diadiktyaki-dialexi-se-mathites-toy-8oy-dimotikoy-scholeioy-kifisias/
ATTACH;FMTTYPE=image/png:https://www.gfli.gr/wp-content/uploads/2021/04/Untitled-design-50-new.png
END:VEVENT
END:VCALENDAR